BEGIN:VCALENDAR
PRODID:NingEventWidget-v1
VERSION:2.0
METHOD:PUBLISH
BEGIN:VEVENT
UID:4320450:Event:51952
DTSTAMP:20260425T162940Z
SUMMARY:Zoso The Ultimate Led Zeppelin Experience at Valley Forge Musi
 c Fair
DESCRIPTION:Valley Forge Casino Resort (1160 First Avenue) welcomes Zo
 so-The Ultimate Led Zeppelin Experience to Valley Forge Music Fair on 
 Friday, August 10, 2017. Zoso is much more than a tribute show. The gr
 oup has been performing together for 18 years and has perfected their 
 Led Zeppelin counterparts by embodying their spirit, tightly wound tal
 ent, and authenticity. Since 1995, they have been putting on the most 
 accurate and captivating Led Zeppelin show since the real thing. Doors
  of The Venue open at 7:00pm and the show starts at 8:00pm. This is a 
 21+ event. Ticket prices range from $30-35 and are on sale now at Tick
 etmaster.com\n\nFor more information visit http://phillytodo.com/event
 s/zoso-the-ultimate-led-zeppelin-experience-at-valley-forge-music
DTSTART:20170811T000000Z
DTEND:20170811T020000Z
CATEGORIES:concert
LOCATION:The Venue at Valley Forge Casino Resort
WEBSITE:https://www.vfcasino.com/events/zoso-ultimate-led-zeppelin-exp
 erience/
URL:https://www.vfcasino.com/events/zoso-ultimate-led-zeppelin-experie
 nce/
CONTACT:610-354-8222
ORGANIZER;CN="Aversa PR & Events":http://phillytodo.com/profile/KoryAv
 ersa277
ATTACH;FMTTYPE="image/jpeg":http://storage.ning.com/topology/rest/1.0/
 file/get/3055004674?profile=original
ATTENDEE;ROLE=REQ-PARTICIPANT;PARTSTAT=ACCEPTED;RSVP=TRUE;CN="Aversa P
 R & Events":http://phillytodo.com/profile/KoryAversa277
END:VEVENT
END:VCALENDAR
