BEGIN:VCALENDAR
PRODID:NingEventWidget-v1
VERSION:2.0
METHOD:PUBLISH
BEGIN:VEVENT
UID:4320450:Event:35119
DTSTAMP:20260425T125812Z
SUMMARY:Zombie Wedding GayBINGO!
DESCRIPTION:May 17 – Zombie Wedding GayBINGO! – “‘Til death do
  us part?”\n\nThis fun event is open to anyone who enjoys campy humo
 r. Cash prizes will be awarded in each game.  Tickets for GayBINGO ar
 e on sale at 215-731-9255.  Reserved Seating tickets on the Bingo flo
 or are $25. General admission tickets in the balcony are $20.\n \nGay
 BINGO was named Best of Philly (Gay Event), won PGN's Lambda Award for
  Best Fundraiser, and was the subject of a popular WHYY documentary. 
  GayBINGO has also been featured in the LA Times, Washington Post, and
  USA Today.  The event has raised over $2 million to date.  GayBINGO
  sponsors are ING, Tavern on Camac, Starbucks, Philadelphia Weekly, an
 d Philly AIDS Thrift.\n \nAIDS Fund produces a variety of fundraising
  and awareness programs throughout the year, including AIDS Walk Phill
 y, AIDS Run Philly, GayBINGO!, Black-Tie GayBINGO!, World AIDS Day, an
 d Workplace Giving Campaigns.  The AIDS Fund grant program supports p
 artner organizations in the Philadelphia Region that provide AIDS and 
 HIV-related services, education, and prevention including increasing p
 ublic awareness of HIV/AIDS issues.  AIDS Fund is also the Philadelph
 ia affiliate of The Names Project, curating panels of The AIDS Memoria
 l Quilt for a local audience.  The 27th Annual AIDS Walk Philly will 
 take place on Sunday, October 20, 2013. Contact AIDS Fund at 215-731-
 9255 or www.aidsfundphilly.org. Follow AIDS Fund on Facebook and Twitt
 er: www.facebook.com/AIDSWalkPhilly, www.facebook.com/gaybingophilly, 
 and twitter.com/AIDSWalkPhilly.\n\nFor more information visit http://p
 hillytodo.com/events/zombie-wedding-gaybingo
DTSTART:20140517T220000Z
DTEND:20140518T040000Z
CATEGORIES:special, event
LOCATION:Gershman Y
WEBSITE:
URL:
CONTACT:215-731-9255
ORGANIZER;CN="Cari Feiler Bender":http://phillytodo.com/profile/CariFe
 ilerBender
ATTACH;FMTTYPE="image/jpeg":
ATTENDEE;ROLE=REQ-PARTICIPANT;PARTSTAT=ACCEPTED;RSVP=TRUE;CN="Cari Fei
 ler Bender":http://phillytodo.com/profile/CariFeilerBender
END:VEVENT
END:VCALENDAR
