BEGIN:VCALENDAR
PRODID:NingEventWidget-v1
VERSION:2.0
METHOD:PUBLISH
BEGIN:VEVENT
UID:4320450:Event:3089
DTSTAMP:20260425T144421Z
SUMMARY:Zee Bar's \"In The Biz\" Celebration!
DESCRIPTION:Join us Thanksgiving Night for An \"In The Biz\" Celebrati
 on!\n\nHosted by Scotty, Dan, Johnny, and Brian Taylor\n\nWith music b
 y DJ Dozia\n\nDoors open at 12am!\n\nFor more information visit http:/
 /phillytodo.com/events/zee-bars-in-the-biz
DTSTART:20101125T050000Z
DTEND:20101126T080000Z
CATEGORIES:party
LOCATION:Zee Bar Private Social Club
WEBSITE:http://www.zee-bar.com
URL:http://www.zee-bar.com
CONTACT:215-922-2994 x106
ORGANIZER;CN="Zee Bar Private Social Club":http://phillytodo.com/profi
 le/ZeeBarPrivateSocialClub
ATTACH;FMTTYPE="image/jpeg":http://storage.ning.com/topology/rest/1.0/
 file/get/3054951151?profile=original
ATTENDEE;ROLE=REQ-PARTICIPANT;PARTSTAT=ACCEPTED;RSVP=TRUE;CN="Zee Bar 
 Private Social Club":http://phillytodo.com/profile/ZeeBarPrivateSocial
 Club
END:VEVENT
END:VCALENDAR
