BEGIN:VCALENDAR
PRODID:NingEventWidget-v1
VERSION:2.0
METHOD:PUBLISH
BEGIN:VEVENT
UID:4320450:Event:10402
DTSTAMP:20260425T142540Z
SUMMARY:Zee Bar's 5th Anniversary Celebration
DESCRIPTION: \nGet Ready for the Hottest Party of the Year...Zee Bar'
 s 5th Anniversary Thursday May 12, 20115 DJ'S ~ 5 CITIES ~ 1 NIGHTDC ~
  NYC ~ Miami ~ Las Vegas ~ PhiladelphiaFeaturing:DJ ENFERNO ~ Direct f
 rom DCDJ CLAUDIUS RAPHAEL ~ NYC's Best Kept SecretDJ KONFLICT ~ Miami'
 s #1 DJ51FIFTY ~ From Las VegasJOSH WINK ~ Philadelphia's OwnDoors ope
 n at 10pm with a Select Open Bar RSVP to ZEERSVP@SILENCIALLC.COMTo res
 erve a table for bottle service please contact Buffy@zee-bar.comDress 
 is Upscale & Fashionable\n \n \n\nFor more information visit http://
 phillytodo.com/events/zee-bars-5th-anniversary
DTSTART:20110513T020000Z
DTEND:20110513T070000Z
CATEGORIES:anniversary, party
LOCATION:Zee Bar
WEBSITE:http://www.zee-bar.com
URL:http://www.zee-bar.com
CONTACT:215-922-2994
ORGANIZER;CN="Zee Bar Private Social Club":http://phillytodo.com/profi
 le/ZeeBarPrivateSocialClub
ATTACH;FMTTYPE="image/jpeg":http://storage.ning.com/topology/rest/1.0/
 file/get/3054954291?profile=original
ATTENDEE;ROLE=REQ-PARTICIPANT;PARTSTAT=ACCEPTED;RSVP=TRUE;CN="Zee Bar 
 Private Social Club":http://phillytodo.com/profile/ZeeBarPrivateSocial
 Club
END:VEVENT
END:VCALENDAR
