BEGIN:VCALENDAR
PRODID:NingEventWidget-v1
VERSION:2.0
METHOD:PUBLISH
BEGIN:VEVENT
UID:4320450:Event:38475
DTSTAMP:20260425T181006Z
SUMMARY:Zee-Bar (100 Spring Garden St, Philadelphia, PA 19123)
DESCRIPTION:The Spring Arden Social Club presents Fright Night- Philad
 elphia’s Only All-Night Halloween Bash\nFeaturing Scooter & Lavelle 
 with sets by Lee Jones. In Uforia Rick Vala and Joby Thomas\nTickets i
 nfo: General Admission- $20.00 per person, Open Bar- $30.00 per person
  (Open Bar from 10pm-12am) **Open Bar tickets WILL NOT be available at
  the door\nDress to impress or Halloween attire\n**Admission is not gu
 aranteed after 1am\nAll sales are final!\nFor bottle service reservati
 ons or info please call 215-922-2994 x0 or email christis@zee-bar.com\
 n\nFor more information visit http://phillytodo.com/events/zee-bar-100
 -spring-garden-st-philadelphia-pa-19123
DTSTART:20141102T020000Z
DTEND:20141102T110000Z
CATEGORIES:halloween, celebration
LOCATION:Zee Bar
WEBSITE:http://www.eventbrite.com/e/fright-night-philadelphias-only-al
 l-night-halloween-bash-tickets-13444921121
URL:http://www.eventbrite.com/e/fright-night-philadelphias-only-all-ni
 ght-halloween-bash-tickets-13444921121
CONTACT:
ORGANIZER;CN="UpcomingEvents.com":http://phillytodo.com/profile/Upcomi
 ngEventscom
ATTACH;FMTTYPE="image/jpeg":http://storage.ning.com/topology/rest/1.0/
 file/get/3054979884?profile=original
ATTENDEE;ROLE=REQ-PARTICIPANT;PARTSTAT=ACCEPTED;RSVP=TRUE;CN="Upcoming
 Events.com":http://phillytodo.com/profile/UpcomingEventscom
END:VEVENT
END:VCALENDAR
