BEGIN:VCALENDAR
PRODID:NingEventWidget-v1
VERSION:2.0
METHOD:PUBLISH
BEGIN:VEVENT
UID:4320450:Event:19007
DTSTAMP:20260425T160900Z
SUMMARY:Young, Single and Sexy Speed Dating
DESCRIPTION:Come out and play this Wednesday, October 19th, with Speed
  Date Philadelphia! Join us at Tavern 222 and connect with outgoing, a
 dventuresome singles 21-30 eager to meet new people like yourself!  W
 hile indulging in complimentary appetizers and drink specials, you wil
 l go on a series of “mini” dates with eight or more individuals in
  this laidback, private setting.  Satisfaction guaranteed, or your ne
 xt event is on us! For more information, visit our website and registe
 r for this and future events!\n\nFor more information visit http://phi
 llytodo.com/events/young-single-and-sexy-speed-dating
DTSTART:20111019T230000Z
DTEND:20111020T010000Z
CATEGORIES:speed, dating, event
LOCATION:Tavern 222
WEBSITE:http://www.speeddatephiladelphia.com/main/index.php?ap=mng_cou
 pon&id=4894
URL:http://www.speeddatephiladelphia.com/main/index.php?ap=mng_coupon&
 id=4894
CONTACT:
ORGANIZER:Speed Date Philadelphia
ATTACH;FMTTYPE="image/jpeg":http://storage.ning.com/topology/rest/1.0/
 file/get/3054954784?profile=original
ATTENDEE;ROLE=REQ-PARTICIPANT;PARTSTAT=ACCEPTED;RSVP=TRUE;CN="Rachel L
 owe":http://phillytodo.com/profile/RachelLowe
END:VEVENT
END:VCALENDAR
