BEGIN:VCALENDAR
PRODID:NingEventWidget-v1
VERSION:2.0
METHOD:PUBLISH
BEGIN:VEVENT
UID:4320450:Event:1879
DTSTAMP:20260425T160113Z
SUMMARY:Young Professionals in Real Estate Networking Event
DESCRIPTION:Are you a young professional working in real estate? Do th
 e services or products you offer benefit those in the industry? If yes
  then this event is for you.\n\nJoin other real estate professional fo
 r a night of networking, lead generating and fun at Mission Grill.\n\n
 Your paid admission includes first drink and light appetizers.\n\nUpco
 mingEvents.com's Young Professional Series are a great way to gain new
  business, meet new industry contacts, and create friendly, lasting re
 lationships.\n\nTickets for this event are just $10 in advance and $15
  at the door (if not sold out).\n\n\nhttp://www.UpcomingEvents.com/eve
 nt/4907/ptodo/\n\nFor more information visit http://phillytodo.com/eve
 nts/young-professionals-in-real
DTSTART:20100729T223000Z
DTEND:20100730T010000Z
CATEGORIES:networking, event
LOCATION:The Mission Grill
WEBSITE:http://www.UpcomingEvents.com/event/4907/ptodo/
URL:http://www.UpcomingEvents.com/event/4907/ptodo/
CONTACT:
ORGANIZER;CN="UpcomingEvents.com":http://phillytodo.com/profile/Upcomi
 ngEventscom
ATTACH;FMTTYPE="image/jpeg":http://storage.ning.com/topology/rest/1.0/
 file/get/3054950207?profile=original
ATTENDEE;ROLE=REQ-PARTICIPANT;PARTSTAT=ACCEPTED;RSVP=TRUE;CN="Upcoming
 Events.com":http://phillytodo.com/profile/UpcomingEventscom
END:VEVENT
END:VCALENDAR
