BEGIN:VCALENDAR
PRODID:NingEventWidget-v1
VERSION:2.0
METHOD:PUBLISH
BEGIN:VEVENT
UID:4320450:Event:2903
DTSTAMP:20260425T144255Z
SUMMARY:Young Professionals After-Work Happy Hour
DESCRIPTION:Join us and escape from your day at our After-Work Happy H
 our at Noche! Noche Lounge, conveniently located in Center City is the
  perfect restaurant and bar to relax with affordable drinks, amazing f
 ood and a friendly atmosphere. Philadelphia's after-work crowd will en
 joy complimentary first drink and we have secured $3 Drafts, $9 Pitche
 rs, 1/2 Priced Pizzas, $3 Stoli Drinks* PLUS GIVEAWAYS. Best of all, i
 t is FREE! - IF YOU RSVP ($10 at the door if you do not RSVP).\n\nWE W
 ILL SEE YOU THERE! Over 150 people are expected. These are great after
 -work events to gather friends, meet new people, and create friendly, 
 lasting relationships.\n\n*Happy Hour 5:30 - 7:30 $3 Any Drafts, $9 An
 y Pitchers, 1/2 Priced Pizzas\n\n$3 Stoli Drinks till 12 Midnight\n\n\
 nJOIN US - Philadelphia's After-Work Happy Hour\n\nFor more informatio
 n visit http://phillytodo.com/events/young-professionals-afterwork-1
DTSTART:20101117T230000Z
DTEND:20101118T020000Z
CATEGORIES:hour
LOCATION:Noche Lounge
WEBSITE:http://www.UpcomingEvents.com/event/6099/ptodo/
URL:http://www.UpcomingEvents.com/event/6099/ptodo/
CONTACT:
ORGANIZER;CN="UpcomingEvents.com":http://phillytodo.com/profile/Upcomi
 ngEventscom
ATTACH;FMTTYPE="image/jpeg":http://storage.ning.com/topology/rest/1.0/
 file/get/3054950697?profile=original
ATTENDEE;ROLE=REQ-PARTICIPANT;PARTSTAT=ACCEPTED;RSVP=TRUE;CN="Upcoming
 Events.com":http://phillytodo.com/profile/UpcomingEventscom
END:VEVENT
END:VCALENDAR
