BEGIN:VCALENDAR
PRODID:NingEventWidget-v1
VERSION:2.0
METHOD:PUBLISH
BEGIN:VEVENT
UID:4320450:Event:49718
DTSTAMP:20260425T131353Z
SUMMARY:Yoga Series at The King of Prussia Town Center
DESCRIPTION:King of Prussia Town Center, Montgomery County’s groundb
 reaking experiential outdoor center, will come to life this spring and
  summer with a selection of free, fun, family-friendly events.\nYoga S
 eries: Tuesdays, 5:00pm \nEvery Tuesday in June and July (excludi
 ng the July 4th holiday), instructors from King of Prussia-based Stil
 lpoint Yoga Studios will lead an introductory, outdoor yoga class at t
 he Town Center. Perfect for all levels of practice, this introductory 
 outdoor yoga course will provide beginners with the basics, while enha
 ncing skills for those familiar with yoga practice. The class is BYO m
 at, towel and water. After a healthy practice, attendees will enjoy a 
 Healthy Happy Hour featuring restaurants in the King of Prussia Town C
 enter.\n \nFor more information visit our website kingofprussia-town
 center.com or follow us on Facebook, Twitter and Instagram.\n \n
 Location:\nThe King of Prussia Town Center\n200 W Main St, King of Pru
 ssia, PA 19401\n\nFor more information visit http://phillytodo.com/eve
 nts/yoga-series-at-the-king-of-prussia-town-center
DTSTART:20170606T210000Z
DTEND:20170725T230000Z
CATEGORIES:yoga
LOCATION:yoga
WEBSITE:http://kingofprussia-towncenter.com
URL:http://kingofprussia-towncenter.com
CONTACT:
ORGANIZER;CN=CashmanAssoc:http://phillytodo.com/profile/CashmanAssoc
ATTACH;FMTTYPE="image/jpeg":
ATTENDEE;ROLE=REQ-PARTICIPANT;PARTSTAT=ACCEPTED;RSVP=TRUE;CN=CashmanAs
 soc:http://phillytodo.com/profile/CashmanAssoc
END:VEVENT
END:VCALENDAR
