BEGIN:VCALENDAR
PRODID:NingEventWidget-v1
VERSION:2.0
METHOD:PUBLISH
BEGIN:VEVENT
UID:4320450:Event:56134
DTSTAMP:20260425T112505Z
SUMMARY:Yoga &amp; Brunch
DESCRIPTION:Take your yoga practice outdoors at the King of Prussia To
 wn Center. In partnership with Stillpoint Yoga Studio an outdoor begin
 ner Yoga class will be offered on town square with a post-class brunch
  specials provided by KOP Town Center tenants such as B.Good, Distric
 t Taco, Davio’s KOP, Choolaah and more!\n \nBYO mat & towel. Ticket
 s are $10.00 and can be purchased here www.stillpointyogafloat.com\nC
 omplimentary water will be provided by WSFS Bank KOP.\n\nFor more info
 rmation visit http://phillytodo.com/events/yoga-amp-brunch
DTSTART:20180916T130000Z
DTEND:20180916T150000Z
CATEGORIES:class, food, drink
LOCATION:King of Prussia Town Center
WEBSITE:http://kingofprussia-towncenter.com/events/
URL:http://kingofprussia-towncenter.com/events/
CONTACT:2156271060
ORGANIZER;CN=CashmanAssoc:http://phillytodo.com/profile/CashmanAssoc
ATTACH;FMTTYPE="image/jpeg":
ATTENDEE;ROLE=REQ-PARTICIPANT;PARTSTAT=ACCEPTED;RSVP=TRUE;CN=CashmanAs
 soc:http://phillytodo.com/profile/CashmanAssoc
END:VEVENT
END:VCALENDAR
