BEGIN:VCALENDAR
PRODID:NingEventWidget-v1
VERSION:2.0
METHOD:PUBLISH
BEGIN:VEVENT
UID:4320450:Event:1167
DTSTAMP:20260425T144252Z
SUMMARY:YBMusic/Public Axis Present \"A Symbols of Sex Party\"
DESCRIPTION:IT'S A PARTY!!!!\n\nFinally Here People!! It's the Pilot E
 vent!!\nIt's the Party You Won't Wanna Miss!!\n\nDrink Specials! Your 
 Favorite Music! Stars! And Sexy People!!!\n\nMusic from DJ NoPhrillz!!
 \nHosted by Big OC Diesel!\n\n$50 Victoria Secrets Gift Card And Desig
 ner Clutch Bag Courtesy of YBME Apparel to the Sexiest Lady in the Bui
 lding!!\n\nDress Code is Grown, Stylish and Sexy!!\nID is a Must\n$2 b
 efore 10 $5 after\n\nFor more information visit http://phillytodo.com/
 events/ybmusicpublic-axis-present-a
DTSTART:20100319T010000Z
DTEND:20100319T060000Z
CATEGORIES:club, party
LOCATION:The Arts Garage
WEBSITE:http://www.facebook.com/#!/event.php?eid=357246432259&ref=ts
URL:http://www.facebook.com/#!/event.php?eid=357246432259&ref=ts
CONTACT:
ORGANIZER:Taurin Gordon and Dom Pinelli
ATTACH;FMTTYPE="image/jpeg":http://storage.ning.com/topology/rest/1.0/
 file/get/3054946523?profile=original
ATTENDEE;ROLE=REQ-PARTICIPANT;PARTSTAT=ACCEPTED;RSVP=TRUE;CN="Lexi Wil
 liams":http://phillytodo.com/profile/LexiWilliams
END:VEVENT
END:VCALENDAR
