BEGIN:VCALENDAR
PRODID:NingEventWidget-v1
VERSION:2.0
METHOD:PUBLISH
BEGIN:VEVENT
UID:4320450:Event:40740
DTSTAMP:20260425T144251Z
SUMMARY:Yards Brews Cruise
DESCRIPTION:Saison's Greetings!Cruise in style and comfort aboard Spir
 it of Philadelphia. There’ll be delicious freshly prepared dining, d
 ancing and great sightseeing. It’s time to see the city from a diffe
 rent perspective—the water.Come aboard the Spirit of Philadelphia an
 d enjoy your local Philly flavor favorites & an open Beer Bar with Yar
 ds Brewing Company products all night long! Yards' expert staff will b
 e onboard for samplings and to answer your beer-related questions. Plu
 s, WMMR's Jacky Bam Bam will be our special guest host and keep the bo
 at rocking with all of your favorite hits. All this for one low all-in
 clusive price! All passengers must be 21 or older with ID.\n\nFor more
  information visit http://phillytodo.com/events/yards-brews-cruise
DTSTART:20150618T223000Z
DTEND:20150619T013000Z
CATEGORIES:brew, cruise
LOCATION:Spirit of Philadelphia
WEBSITE:http://www.spiritcruises.com/philadelphia/cruises/specialty/be
 ef-and-beer?_ga=1.143915189.167513647.1428936698
URL:http://www.spiritcruises.com/philadelphia/cruises/specialty/beef-a
 nd-beer?_ga=1.143915189.167513647.1428936698
CONTACT:
ORGANIZER;CN="UpcomingEvents.com":http://phillytodo.com/profile/Upcomi
 ngEventscom
ATTACH;FMTTYPE="image/jpeg":http://storage.ning.com/topology/rest/1.0/
 file/get/3054987012?profile=original
ATTENDEE;ROLE=REQ-PARTICIPANT;PARTSTAT=ACCEPTED;RSVP=TRUE;CN="Upcoming
 Events.com":http://phillytodo.com/profile/UpcomingEventscom
END:VEVENT
END:VCALENDAR
