BEGIN:VCALENDAR
PRODID:NingEventWidget-v1
VERSION:2.0
METHOD:PUBLISH
BEGIN:VEVENT
UID:4320450:Event:55140
DTSTAMP:20260425T143344Z
SUMMARY:Yard’s Brew Cruise aboard the Spirit of Philadelphia
DESCRIPTION:Spirit of Philadelphia and Yard’s brewing company are te
 aming up to give you a night filled with fun and excitement.  Ticket 
 prices start at $52.90 and the ship will begin boarding at 6:30 pm and
  cruise from 7 pm to 9:30 pm. Enjoy a delicious buffet and an open bee
 r bar featuring Yard’s signature ales, while DJs Bex and Bennet from
  96.5 TDY’S make sure that the party doesn’t stop. Hang with some 
 of our Yard’s beer experts on deck for some Q+A and to grab samples.
  If you’re looking for a memorable summer evening enjoying Yard’s 
 signature ales and the Philadelphia skyline, you can find it on the wa
 ter with Spirit of Philadelphia.\n\nFor more information visit http://
 phillytodo.com/events/yard-s-brew-cruise-aboard-the-spirit-of-philadel
 phia
DTSTART:20180621T230000Z
DTEND:20180622T013000Z
CATEGORIES:cruise
LOCATION:Penn's Landing
WEBSITE:
URL:
CONTACT:
ORGANIZER;CN="Bryan Chan":http://phillytodo.com/profile/BryanChan
ATTACH;FMTTYPE="image/jpeg":http://storage.ning.com/topology/rest/1.0/
 file/get/3055013867?profile=original
ATTENDEE;ROLE=REQ-PARTICIPANT;PARTSTAT=ACCEPTED;RSVP=TRUE;CN="Bryan Ch
 an":http://phillytodo.com/profile/BryanChan
END:VEVENT
END:VCALENDAR
