BEGIN:VCALENDAR
PRODID:NingEventWidget-v1
VERSION:2.0
METHOD:PUBLISH
BEGIN:VEVENT
UID:4320450:Event:53325
DTSTAMP:20260425T125822Z
SUMMARY:Yappy Hour at the Pyramid Club
DESCRIPTION:Looking for a way to support Philadelphia's homeless anima
 ls while wearing a fancy outfit, sipping a drink, and soaking in the v
 iew of our city? Look no further than this very exciting Yappy Hour ho
 sted by the wonderful Pyramid Club! Dress to the nines, treat yourself
  to a cocktail, and enjoy a stunning view while helping Philadelphiaâ€
 ™s furry pals all for just one $20 donation to Morris Animal Refuge.Â 
 Â Food, cash bar, raffle prizes. Reserve a ticket and get more informa
 tion here.*Business casual attire is required for entry!*\n\nFor more 
 information visit http://phillytodo.com/events/yappy-hour-at-the-pyram
 id-club
DTSTART:20171116T230000Z
DTEND:20171117T010000Z
CATEGORIES:"yappy hour", "happy hour", "animal shelter", fundraiser
LOCATION:The Pyramid Club
WEBSITE:https://www.eventbrite.com/e/yappy-hour-at-pyramid-club-ticket
 s-39527130712?ref=estw
URL:https://www.eventbrite.com/e/yappy-hour-at-pyramid-club-tickets-39
 527130712?ref=estw
CONTACT:215-735-9570
ORGANIZER:The Pyramid Club
ATTACH;FMTTYPE="image/jpeg":http://storage.ning.com/topology/rest/1.0/
 file/get/3055009656?profile=original
ATTENDEE;ROLE=REQ-PARTICIPANT;PARTSTAT=ACCEPTED;RSVP=TRUE;CN="The Morr
 is Animal Refuge":http://phillytodo.com/profile/TheMorrisAnimalRefuge
END:VEVENT
END:VCALENDAR
