BEGIN:VCALENDAR
PRODID:NingEventWidget-v1
VERSION:2.0
METHOD:PUBLISH
BEGIN:VEVENT
UID:4320450:Event:38375
DTSTAMP:20260425T162123Z
SUMMARY:Ya Gotta Try This Tasting Party with Fox 29’s Mike Jerrick
DESCRIPTION:Good Day Philadelphia’s Mike Jerrick hosts the 1st Ya Go
 tta Try Tasting Party on Thursday, October 2, 2014 at 6:30 pm at Indep
 endence Visitor Center (6th/Market). Mix and mingle with personalities
  from Fox 29 as you sample must-try dishes from 25 of the region’s t
 op restaurants including Noord, Cuba Libra, Palladino’s, Rouge, Brid
 get Foy’s, SliCE, Verdad, Nick’s Roast Beef in Old City and others
 . Enjoy complimentary cocktails, plus beer tastings (courtesy of Bru, 
 U-Bahn and Yards). Music and dancing with DJ Malc Geez. Ticket sales b
 enefit The Second Chance Foundation.  Tickets are on sale at www.yago
 ttatrythis.com or by calling 215-840-9216.\n\n\nFor more information v
 isit http://phillytodo.com/events/ya-gotta-try-this-tasting-party-with
 -fox-29-s-mike-jerrick
DTSTART:20141002T223000Z
DTEND:20141003T013000Z
CATEGORIES:ya, gotta, try, this, tasting, party, benefiting, second, c
 hance, foundation
LOCATION:Independence Visitor Center Liberty View Ballrom
WEBSITE:http://www.yagottatrythis.com
URL:http://www.yagottatrythis.com
CONTACT:215-840-5214
ORGANIZER;CN="Aversa PR & Events":http://phillytodo.com/profile/KoryAv
 ersa277
ATTACH;FMTTYPE="image/jpeg":http://storage.ning.com/topology/rest/1.0/
 file/get/3054979981?profile=original
ATTENDEE;ROLE=REQ-PARTICIPANT;PARTSTAT=ACCEPTED;RSVP=TRUE;CN="Aversa P
 R & Events":http://phillytodo.com/profile/KoryAversa277
END:VEVENT
END:VCALENDAR
