BEGIN:VCALENDAR
PRODID:NingEventWidget-v1
VERSION:2.0
METHOD:PUBLISH
BEGIN:VEVENT
UID:4320450:Event:28722
DTSTAMP:20260425T175132Z
SUMMARY:Y100 Tribute Party
DESCRIPTION:Do you miss the days of Philadelphia radio when Y100 serve
 d up alternative rock to appease your teenage angst? Smokin' Betty's p
 resents the Y100 Tribute Party on Saturday November 3, 2012 at 9pm.  
 '90s cover band Class A rocks out with music from Alanis, Nirvana, Wee
 zer, Smashing Pumpkins and more. Show off your Teen Spirit by digging 
 out your flannel, lacing up those Dr. Martens and dressing in your be
 st '90s garb. Smokin' Betty's is all that and a bag of chips, so come
  out for drink specials and free admission.  Kick it old school and s
 tay until Closing Time! \n\nFor more information visit http://phillyt
 odo.com/events/y100-tribute-party
DTSTART:20121104T010000Z
DTEND:20121104T070000Z
CATEGORIES:party, concert
LOCATION:Smokin' Betty's
WEBSITE:
URL:
CONTACT:(215) 922-6500
ORGANIZER;CN="Aversa PR & Events":http://phillytodo.com/profile/KoryAv
 ersa277
ATTACH;FMTTYPE="image/jpeg":
ATTENDEE;ROLE=REQ-PARTICIPANT;PARTSTAT=ACCEPTED;RSVP=TRUE;CN="Aversa P
 R & Events":http://phillytodo.com/profile/KoryAversa277
END:VEVENT
END:VCALENDAR
