BEGIN:VCALENDAR
PRODID:NingEventWidget-v1
VERSION:2.0
METHOD:PUBLISH
BEGIN:VEVENT
UID:4320450:Event:34231
DTSTAMP:20260425T124854Z
SUMMARY:Xtoberfest
DESCRIPTION:EVENT DETAILS//\nCelebrate Oktoberfest at Philadelphia’s
  LARGEST beer festival for XFINITY Live! Philadelphia’s 2nd Annual X
 toberfest. Event is complete with beer gardens, German Oktoberfest bee
 r tents, food, music, contests, prizes and much more!\nListen to live 
 bands all day while sampling 150+ great beers (participating breweries
  listed below) in your own custom stein and enjoying chef-inspired aut
 hentic Oktoberfest-style foods. Grab some friends and come on out for 
 a beautiful fall day of amazing beer-drinking fun.\nBe a part of all t
 he fun on social media and share your photos with us by using #xtoberf
 est\nPARTICIPATING BREWERIES//\nOver 150 beers will be available to sa
 mple throughout our 2nd Annual Xtoberfest celebrating. Participating b
 reweries include, but are not limited to:\nBoulder Beer | Cottrell | C
 oast Brewing | Free Will | Goose Island | Great Lakes Brewing Co. | It
 haca Brewing Co. | Kona | Lancaster | Left Hand | Magic Hat | Naked Br
 ewing | Narragansett | Neshaminy Creek | Prism | Rivertown | Rogue | S
 ix Point | Smuttynose | Southampton | Starr Hill | Stone | Thomas Cree
 k | Troegs | Victory Brewing Co. | Yards Brewing Co\n\nFor more inform
 ation visit http://phillytodo.com/events/xtoberfest
DTSTART:20130928T190000Z
DTEND:20130929T000000Z
CATEGORIES:beer, festival
LOCATION:XFINITY Live!
WEBSITE:http://xfinitylive.com/index.cfm?page=xtoberfest
URL:http://xfinitylive.com/index.cfm?page=xtoberfest
CONTACT:2156091678
ORGANIZER;CN="Stepfanie McCaffrey":http://phillytodo.com/profile/Stepf
 anieMcCaffrey
ATTACH;FMTTYPE="image/jpeg":http://storage.ning.com/topology/rest/1.0/
 file/get/3054968019?profile=original
ATTENDEE;ROLE=REQ-PARTICIPANT;PARTSTAT=ACCEPTED;RSVP=TRUE;CN="Stepfani
 e McCaffrey":http://phillytodo.com/profile/StepfanieMcCaffrey
END:VEVENT
END:VCALENDAR
