BEGIN:VCALENDAR
PRODID:NingEventWidget-v1
VERSION:2.0
METHOD:PUBLISH
BEGIN:VEVENT
UID:4320450:Event:38378
DTSTAMP:20260425T133411Z
SUMMARY:Xtoberfest 2014 - Oktoberfest Beer Festival in Philadelphia
DESCRIPTION:Announcing the 3rd Annual Xtoberfest beer festival celeb
 ration at the incredible XFINITY Live! - complete with beer gardens, G
 erman Oktoberfest beer tents, authentic food, music, and MUCH MORE!  
 Grab some friends and come on out for a beautiful fall day of amazing 
 beer-drinking fun.  FULL DETAILS are below under \"What can I Expect\
 " - an absolutely amazing line up of beers & fun!\n \nListen to live 
 bands all day with unlimited samplings of 200+ amazing craft beers fro
 m 100+ breweries (yes, many awesome German beers included) in your own
  beer stein (served by the Live! beer wenches) enjoying chef-inspired 
 Oktoberfest-inspired food options, access to Victory Beer Hall and oth
 er specialty areas, take a stroll down Whiskey Alley, live DJs inside,
  authentic German music, super-fun contests, games, activities, prizes
 , and giveaways.  PLUS (if you can believe it) MORE!\n \nTickets & M
 ore Info: http://www.upcomingevents.com/philadelphia/xfinity-live/xto
 berfest/ptodo/\n\nFor more information visit http://phillytodo.com/eve
 nts/xtoberfest-2014-oktoberfest-beer-festival-in-philadelphia
DTSTART:20140927T180000Z
DTEND:20140927T230000Z
CATEGORIES:fest
LOCATION:XFINITY Live!
WEBSITE:
URL:
CONTACT:
ORGANIZER;CN="UpcomingEvents.com":http://phillytodo.com/profile/Upcomi
 ngEventscom
ATTACH;FMTTYPE="image/jpeg":http://storage.ning.com/topology/rest/1.0/
 file/get/3054980115?profile=original
ATTENDEE;ROLE=REQ-PARTICIPANT;PARTSTAT=ACCEPTED;RSVP=TRUE;CN="Upcoming
 Events.com":http://phillytodo.com/profile/UpcomingEventscom
END:VEVENT
END:VCALENDAR
