BEGIN:VCALENDAR
PRODID:NingEventWidget-v1
VERSION:2.0
METHOD:PUBLISH
BEGIN:VEVENT
UID:4320450:Event:27551
DTSTAMP:20260425T144623Z
SUMMARY:Xtoberfest 2012 - Oktoberfest in Philadelphia
DESCRIPTION:Announcing the inaugural Xtoberfest German tribute & celeb
 ration only at the brand new XFINITY Live!  Grab some friends and com
 e on out for a beautiful fall day sampling 40+ great beers in your own
  custom stein, chef-inspired authentic Oktoberfest-style foods paired 
 & made with beers, live DJ & outdoor band music, charitable giving sil
 ent auction, and incredible games, tournaments, activities, prizes, an
 d giveaways.  PLUS MUCH MORE!\n\nFor more information visit http://ph
 illytodo.com/events/xtoberfest-2012-oktoberfest-in-philadelphia
DTSTART:20120929T170000Z
DTEND:20120930T010000Z
CATEGORIES:beer, festival
LOCATION:Xfinity Live!
WEBSITE:http://www.upcomingevents.com/philadelphia/xfinity-live/xtober
 fest/ptodo
URL:http://www.upcomingevents.com/philadelphia/xfinity-live/xtoberfest
 /ptodo
CONTACT:
ORGANIZER;CN="UpcomingEvents.com":http://phillytodo.com/profile/Upcomi
 ngEventscom
ATTACH;FMTTYPE="image/jpeg":http://storage.ning.com/topology/rest/1.0/
 file/get/3054958926?profile=original
ATTENDEE;ROLE=REQ-PARTICIPANT;PARTSTAT=ACCEPTED;RSVP=TRUE;CN="Upcoming
 Events.com":http://phillytodo.com/profile/UpcomingEventscom
END:VEVENT
END:VCALENDAR
