BEGIN:VCALENDAR
PRODID:NingEventWidget-v1
VERSION:2.0
METHOD:PUBLISH
BEGIN:VEVENT
UID:4320450:Event:54926
DTSTAMP:20260425T112620Z
SUMMARY:XIX Restaurant Valentine's Dinner
DESCRIPTION:Let XIX (Nineteen) Restaurant treat you and your sweethear
 t to a romantic dinner this Valentine’s Day. Enjoy a decedent four-c
 ourse meal while you take in the ambience of the beautifully decorated
  dining room, and the sights of Philly’s skyline. Dinner begins with
  a Terrine of Smoked Ocean Trout served with Cucumber Relish, American
  Caviar and a Beet Reduction and concludes with a luxurious Dark Choco
 late and Raspberry Heart Duet. In between, enjoy a Seafood Saffron Ris
 otto, and choices for a main course that include Pan Seared Royal Sea 
 Bass, Roasted NY State Duck Magret, and Braised Hereford Beef Short Ri
 b. Tickets are $85.00 (with and optional wine pairing, not including t
 ax, gratuity, or alcohol), please call 215-790-1919 or visit: https://
 www.hyatt.com/corporate/restaurants/nineteen-restaurant/en/home.html t
 o make a reservation.\n\nFor more information visit http://phillytodo.
 com/events/xix-restaurant-valentine-s-dinner
DTSTART:20180214T223000Z
DTEND:20180215T030000Z
CATEGORIES:"valentine's", dinner
LOCATION:Hyatt at The Bellevue, XIX (Nineteen) Restaurant
WEBSITE:
URL:
CONTACT:215-790-1919
ORGANIZER;CN="Bryan Chan":http://phillytodo.com/profile/BryanChan
ATTACH;FMTTYPE="image/jpeg":http://storage.ning.com/topology/rest/1.0/
 file/get/3055009912?profile=original
ATTENDEE;ROLE=REQ-PARTICIPANT;PARTSTAT=ACCEPTED;RSVP=TRUE;CN="Bryan Ch
 an":http://phillytodo.com/profile/BryanChan
END:VEVENT
END:VCALENDAR
