BEGIN:VCALENDAR
PRODID:NingEventWidget-v1
VERSION:2.0
METHOD:PUBLISH
BEGIN:VEVENT
UID:4320450:Event:57301
DTSTAMP:20260425T112714Z
SUMMARY:XIX (Nineteen) Restaurant Valentine’s Dinner 2019
DESCRIPTION:Share the love at XIX (Nineteen) Restaurant. Offering a ro
 mantic four-course couples dining experience for $85, your evening inc
 ludes sweeping skyline views from the 19th floor of the historic Belle
 vue Hotel. Decadent menu items include; Sea Bass Tartar, Baked Brie in
  Puff Pastries with third course options of: Butter Poached Lobster Ta
 il, Roasted Rohan Duck Breast, Filet Mignon, and dessert for two. XIX 
 is also offering a Sparkling Rosé Flight ($45per person) to pair with
  the meal.\n\nFor more information visit http://phillytodo.com/events/
 xix-nineteen-restaurant-valentine-s-dinner-2019
DTSTART:20190214T220000Z
DTEND:20190215T030000Z
CATEGORIES:"valentine's", dinner
LOCATION:XIX at The Bellevue Hotel. Broad and Walnut streets. Philadel
 phia, Pennsylvania 19102
WEBSITE:https://www.opentable.com/r/xix-nineteen-philadelphia?avt=eyJ2
 IjoxLCJtIjowLCJwIjowfQ&amp;amp;corrId=f9d07f7e-3131-4a93-adb1-3a887889
 cf37&amp;amp;p=2&amp;amp;sd=2019-01-24+19%3A00
URL:https://www.opentable.com/r/xix-nineteen-philadelphia?avt=eyJ2Ijox
 LCJtIjowLCJwIjowfQ&amp;amp;corrId=f9d07f7e-3131-4a93-adb1-3a887889cf37
 &amp;amp;p=2&amp;amp;sd=2019-01-24+19%3A00
CONTACT:6193987966
ORGANIZER;CN="Bryan Chan":http://phillytodo.com/profile/BryanChan
ATTACH;FMTTYPE="image/jpeg":https://storage.ning.com/topology/rest/1.0
 /file/get/872409469?profile=original
ATTENDEE;ROLE=REQ-PARTICIPANT;PARTSTAT=ACCEPTED;RSVP=TRUE;CN="Bryan Ch
 an":http://phillytodo.com/profile/BryanChan
END:VEVENT
END:VCALENDAR
