BEGIN:VCALENDAR
PRODID:NingEventWidget-v1
VERSION:2.0
METHOD:PUBLISH
BEGIN:VEVENT
UID:4320450:Event:36674
DTSTAMP:20260425T160926Z
SUMMARY:XFINITY Live! Summer Concert Series -- Buckcherry
DESCRIPTION:Our summer concert series continues as Buckcherry rocks th
 e stage on Saturday, May 31st!GET TICKETS: http://ticketf.ly/1fMwGI8B
 e sure to use #XLSummerConcert to share your photo & fun with us durin
 g the show!\n\nFor more information visit http://phillytodo.com/events
 /xfinity-live-summer-concert-series-buckcherry
DTSTART:20140601T003000Z
DTEND:20140601T034500Z
CATEGORIES:concert
LOCATION:XFINITY Live! Philadelphia
WEBSITE:http://xfinitylive.com/index.cfm?page=entertainment&subsection
 =date&id=2014-05-31#event-2468
URL:http://xfinitylive.com/index.cfm?page=entertainment&subsection=dat
 e&id=2014-05-31#event-2468
CONTACT:215-609-1678
ORGANIZER;CN="XFINITY Live! Philadelphia":http://phillytodo.com/profil
 e/XFINITYLivePhiladelphia
ATTACH;FMTTYPE="image/jpeg":http://storage.ning.com/topology/rest/1.0/
 file/get/3054974060?profile=original
ATTENDEE;ROLE=REQ-PARTICIPANT;PARTSTAT=ACCEPTED;RSVP=TRUE;CN="XFINITY 
 Live! Philadelphia":http://phillytodo.com/profile/XFINITYLivePhiladelp
 hia
END:VEVENT
END:VCALENDAR
