BEGIN:VCALENDAR
PRODID:NingEventWidget-v1
VERSION:2.0
METHOD:PUBLISH
BEGIN:VEVENT
UID:4320450:Event:29305
DTSTAMP:20260425T161736Z
SUMMARY:XFINITY Live! For NYE
DESCRIPTION:This year, Philadelphia’s #1 source for the area’s hot
 test, hippest places to ring in 2013, NYEPhilly.com is back and better
  than ever. Producing over a dozen celebrations, including 7 parties u
 nder one roof at XFINITY Live!\n\nFor more information visit http://ph
 illytodo.com/events/xfinity-live-for-nye
DTSTART:20130101T010000Z
DTEND:20130101T070000Z
CATEGORIES:new, years, eve, parties
LOCATION:XFINITY Live!
WEBSITE:http://nyephilly.com/xfinity-live/new-years-eve
URL:http://nyephilly.com/xfinity-live/new-years-eve
CONTACT:
ORGANIZER;CN="Ashley Conde":http://phillytodo.com/profile/AshleyConde
ATTACH;FMTTYPE="image/jpeg":
ATTENDEE;ROLE=REQ-PARTICIPANT;PARTSTAT=ACCEPTED;RSVP=TRUE;CN="Ashley C
 onde":http://phillytodo.com/profile/AshleyConde
END:VEVENT
END:VCALENDAR
