BEGIN:VCALENDAR
PRODID:NingEventWidget-v1
VERSION:2.0
METHOD:PUBLISH
BEGIN:VEVENT
UID:4320450:Event:49527
DTSTAMP:20260425T144527Z
SUMMARY:Xfinity Live! Family Movie Night
DESCRIPTION:XFINITY Live! is back with our new Family Movie Nights Pre
 sented by XFINITY featuring The Angry Birds Movie on April 5! As y
 ou might have noticed, our Family Movie Nights have become a great suc
 cess and can get crowded, so we're taking this an opportunity to give 
 back and create a limited amount of tickets to ensure an even better e
 xperience for our guests! A $3 ticket is required for all guests with 
 100% of the ticket proceeds going to the Ronald McDonald House of Phil
 adelphia! Join us for a night of fun with Angry Birds themed activiti
 es and crafts, giveaways, and FREE popcorn to watch the movie! We'll 
 also have a themed kids menu available! Every one entering needs a ti
 cket and all tickets must be purchased in advance. Tickets can be purc
 hased at: https://www.ticketfly.com/purchase/event/1435757?utm_source
 =MomBlogs&utm_medium=Web\nFor more info on The Ronald McDonald House, 
 visit their website here: http://www.philarmh.org/ \n \n\nFor more 
 information visit http://phillytodo.com/events/xfinity-live-family-mov
 ie-night
DTSTART:20170405T210000Z
DTEND:20170405T230000Z
CATEGORIES:family, movie, night
LOCATION:Xfinity Live!
WEBSITE:http://www.xfinitylive.com/entertainment/event/11006
URL:http://www.xfinitylive.com/entertainment/event/11006
CONTACT:
ORGANIZER;CN="XFINITY Live! Philadelphia":http://phillytodo.com/profil
 e/XFINITYLivePhiladelphia
ATTACH;FMTTYPE="image/jpeg":http://storage.ning.com/topology/rest/1.0/
 file/get/3055004378?profile=original
ATTENDEE;ROLE=REQ-PARTICIPANT;PARTSTAT=ACCEPTED;RSVP=TRUE;CN="XFINITY 
 Live! Philadelphia":http://phillytodo.com/profile/XFINITYLivePhiladelp
 hia
END:VEVENT
END:VCALENDAR
