BEGIN:VCALENDAR
PRODID:NingEventWidget-v1
VERSION:2.0
METHOD:PUBLISH
BEGIN:VEVENT
UID:4320450:Event:53634
DTSTAMP:20260425T145031Z
SUMMARY:Wynnewood Antique &amp; Vintage Holiday Market
DESCRIPTION:There will be an Indoor Antique & Vintage Holiday Market a
 t The Kaiserman Jewish Community Center produced by Phila Flea Markets
 .\nThe date will be Saturday, Dec 9th from 8AM til 4PM but early birds
  are always welcome!\nLocated at 45 Haverford Road just off City Avenu
 e in Wynnewood, PA 19096\nAntique Furniture, Vintage Jewelry & Clothin
 g, Collectibles, Home Furnishings, Primitives, Art Work, Ephemera and 
 so much more.\nThere is Free Parking, Free Admission, an ATM, and the 
 building is Handicap Accessible\nFor more info and our complete indoor
  Winter schedule call: 215 - 625 - FLEA (3532) or www.PhilaFleaMarket
 s.org\n\nTONY SOPRANO\nMarket Coordinator\n215 - 625 - 3532 (FLEA)\n\n
 \nFor more information visit http://phillytodo.com/events/wynnewood-an
 tique-amp-vintage-holiday-market
DTSTART:20171209T130000Z
DTEND:20171209T210000Z
CATEGORIES:antique, "&amp", vintage, holiday, market
LOCATION:Kaiserman Jewish Community Center
WEBSITE:http://www.PhilaFleaMarkets.org
URL:http://www.PhilaFleaMarkets.org
CONTACT:215 - 625 - 3532
ORGANIZER;CN="Phila Flea Markets":http://phillytodo.com/profile/PhilaF
 leaMarkets
ATTACH;FMTTYPE="image/jpeg":http://storage.ning.com/topology/rest/1.0/
 file/get/3055009611?profile=original
ATTENDEE;ROLE=REQ-PARTICIPANT;PARTSTAT=ACCEPTED;RSVP=TRUE;CN="Phila Fl
 ea Markets":http://phillytodo.com/profile/PhilaFleaMarkets
END:VEVENT
END:VCALENDAR
