BEGIN:VCALENDAR
PRODID:NingEventWidget-v1
VERSION:2.0
METHOD:PUBLISH
BEGIN:VEVENT
UID:4320450:Event:47207
DTSTAMP:20260425T160751Z
SUMMARY:WXPN Welcomes Davy Knowles
DESCRIPTION:On Saturday, August 13th, Gravity Given Productions and Ha
 rd Rock Cafe present WXPN Welcomes Davy Knowles at Hard Rock Philadelp
 hia. Don’t miss your chance to see Davy Knowles who is back out tour
 ing in support of his latest studio album “The Outsider,” his upco
 ming film documentary “Island Bound,” and a series of new blue rec
 ordings. For more details visit,\nhttp://www.hrcphillymusic.com/event/
 1108045-wxpn-welcomes-davy-knowles-philadelphia/\n\nFor more informati
 on visit http://phillytodo.com/events/wxpn-welcomes-davy-knowles
DTSTART:20160813T230000Z
DTEND:20160814T040000Z
CATEGORIES:music
LOCATION:1131 Market Street
WEBSITE:http://www.hrcphillymusic.com/event/1108045-wxpn-welcomes-davy
 -knowles-philadelphia/
URL:http://www.hrcphillymusic.com/event/1108045-wxpn-welcomes-davy-kno
 wles-philadelphia/
CONTACT:
ORGANIZER:1131 Market Street
ATTACH;FMTTYPE="image/jpeg":
ATTENDEE;ROLE=REQ-PARTICIPANT;PARTSTAT=ACCEPTED;RSVP=TRUE;CN=CashmanAs
 soc:http://phillytodo.com/profile/CashmanAssoc
END:VEVENT
END:VCALENDAR
