BEGIN:VCALENDAR
PRODID:NingEventWidget-v1
VERSION:2.0
METHOD:PUBLISH
BEGIN:VEVENT
UID:4320450:Event:52628
DTSTAMP:20260425T124854Z
SUMMARY:WURST BBQ
DESCRIPTION:Philadelphians looking for some afternoon fun, delicious 
 Oktoberfest fare and brews should head to Red Owl Tavern next Tuesd
 ay, September 26th, where Executive Chef Caitlin Mateo will host The
  Wurst BBQ! From 12-4pm, guests can sit outdoors in the shadows of h
 istory on one of America’s most historic intersections, across from 
 Independence Hall, and enjoy a bevy of German-style sausages (wursts).
  Mateo and her team will serve a selection of sausages including bockw
 urst, knockwurst and bratwurst. $15 buys a copious platter of sausages
 , along with a side of German-style potato salad and spicy mustard. Re
 d Owl Tavern is known for its robust beer program and for day-drinkers
  this Tuesday, the accomplished bar will not disappoint. Guests can en
 joy Warsteiner Premium Oktoberfest ($7); Sam Adams Octoberfest ($8) an
 d Hofbräuhaus Oktoberfestbier ($5). \n\nFor more information visit h
 ttp://phillytodo.com/events/wurst-bbq
DTSTART:20170926T160000Z
DTEND:20170926T200000Z
CATEGORIES:oktoberfest
LOCATION:Red Owl Tavern
WEBSITE:http://www.redowltavern.com/
URL:http://www.redowltavern.com/
CONTACT:(215) 923-2267
ORGANIZER:Red Owl Tavern
ATTACH;FMTTYPE="image/jpeg":http://storage.ning.com/topology/rest/1.0/
 file/get/3055009639?profile=original
ATTENDEE;ROLE=REQ-PARTICIPANT;PARTSTAT=ACCEPTED;RSVP=TRUE;CN="Punch Me
 dia":http://phillytodo.com/profile/PunchMedia
END:VEVENT
END:VCALENDAR
