BEGIN:VCALENDAR
PRODID:NingEventWidget-v1
VERSION:2.0
METHOD:PUBLISH
BEGIN:VEVENT
UID:4320450:Event:38332
DTSTAMP:20260425T150210Z
SUMMARY:Writing Retreat in the Woods
DESCRIPTION:Come out to the Schuylkill Center's beautiful forests to r
 enew your craft and connect to nature at the second annual Writing Ret
 reat in the Woods with Musehouse.  Experienced and published teacher
 s will lead workshops and conversation in the heart of our 340 acres o
 f woodlands.  Immerse yourself in nature to inspire your writing, mee
 t new people, enjoy a catered lunch, and share ideas around a bonfire.
   New and experienced writers welcome.  Pre-registration is required
 .  Workshop details coming soon.\n$55\nSpecial early bird discount! R
 egister by October 3 for $5 off.\n\nFor more information visit http://
 phillytodo.com/events/writing-retreat-in-the-woods
DTSTART:20141108T150000Z
DTEND:20141108T210000Z
CATEGORIES:writing, workshop
LOCATION:Schuylkill Center for Environmental Education
WEBSITE:http://www.schuylkillcenter.org/
URL:http://www.schuylkillcenter.org/
CONTACT:215-482-7300
ORGANIZER;CN="The Schuylkill Center":http://phillytodo.com/profile/Ann
 aLehrMueser
ATTACH;FMTTYPE="image/jpeg":http://storage.ning.com/topology/rest/1.0/
 file/get/3054979646?profile=original
ATTENDEE;ROLE=REQ-PARTICIPANT;PARTSTAT=ACCEPTED;RSVP=TRUE;CN="The Schu
 ylkill Center":http://phillytodo.com/profile/AnnaLehrMueser
END:VEVENT
END:VCALENDAR
