BEGIN:VCALENDAR
PRODID:NingEventWidget-v1
VERSION:2.0
METHOD:PUBLISH
BEGIN:VEVENT
UID:4320450:Event:53402
DTSTAMP:20260425T144301Z
SUMMARY:Wreath Making Workshop
DESCRIPTION:Learn to make beautiful holiday wreaths. Everyone will mak
 e and decorate a fragrant wreath to take home. We supply the frames, v
 arious greens and decorations like pods, pine cones, bows and ornament
 s. Fee includes your wreath frame, wire, greens, and decorations.\n\nF
 or more information visit http://phillytodo.com/events/wreath-making-w
 orkshop-2
DTSTART:20171201T230000Z
DTEND:20171202T010000Z
CATEGORIES:workshop
LOCATION:Greensgrow Farms
WEBSITE:http://www.greensgrow.org/event/wreath-making-workshop-7/
URL:http://www.greensgrow.org/event/wreath-making-workshop-7/
CONTACT:
ORGANIZER;CN="Greensgrow Farms":http://phillytodo.com/profile/Greensgr
 owFarms
ATTACH;FMTTYPE="image/jpeg":http://storage.ning.com/topology/rest/1.0/
 file/get/3055009368?profile=original
ATTENDEE;ROLE=REQ-PARTICIPANT;PARTSTAT=ACCEPTED;RSVP=TRUE;CN="Greensgr
 ow Farms":http://phillytodo.com/profile/GreensgrowFarms
END:VEVENT
END:VCALENDAR
