BEGIN:VCALENDAR
PRODID:NingEventWidget-v1
VERSION:2.0
METHOD:PUBLISH
BEGIN:VEVENT
UID:4320450:Event:1916
DTSTAMP:20260425T175132Z
SUMMARY:World Record Attempt - The Great Pennsylvania Wine Toast & Tas
 ting
DESCRIPTION:One day, one toast, one celebrity toastmaster, one world r
 ecord. On August 14 at 4:00pm, thousands across the state will raise t
 heir glasses for the Great Pennsylvania Wine Toast. The goal: to set a
  world record for the largest wine tasting ever conducted.\n\nThis FRE
 E event includes:\n\n* A commemorative wine glass\n* Complimentary tas
 tings of two amazing Chaddsford wines\n* Light menu samples from Devon
 's spectacular menu\n* A complimentary wine toast to set the world rec
 ord\n* ... and great wine specials throughout the event on full pours 
 of wine!\n\n\nProud Pennsylvanian, wine lover and racing legend, Mario
  Andretti, will serve as our toastmaster, as he leads all locations in
  a simultaneous toast via video. Proceeds from the event will support 
 The Fund to Benefit Children & Youth, a Lehigh Valley, Pa.-based organ
 ization that helps provide items and services to children and families
  in need.\n\nSo grab a friend and head out to this event on August 14 
 so you can be a part of wine history...and sample some fantastic wines
 , of course!\n\nhttp://www.UpcomingEvents.com/event/5088/ptodo/\n\nFor
  more information visit http://phillytodo.com/events/world-record-atte
 mpt-the
DTSTART:20100814T190000Z
DTEND:20100814T220000Z
CATEGORIES:wine, toast, "&", tasting
LOCATION:Devon Seafood Grill
WEBSITE:http://www.UpcomingEvents.com/event/5088/ptodo/
URL:http://www.UpcomingEvents.com/event/5088/ptodo/
CONTACT:
ORGANIZER;CN="UpcomingEvents.com":http://phillytodo.com/profile/Upcomi
 ngEventscom
ATTACH;FMTTYPE="image/jpeg":http://storage.ning.com/topology/rest/1.0/
 file/get/3054950026?profile=original
ATTENDEE;ROLE=REQ-PARTICIPANT;PARTSTAT=ACCEPTED;RSVP=TRUE;CN="Upcoming
 Events.com":http://phillytodo.com/profile/UpcomingEventscom
END:VEVENT
END:VCALENDAR
