BEGIN:VCALENDAR
PRODID:NingEventWidget-v1
VERSION:2.0
METHOD:PUBLISH
BEGIN:VEVENT
UID:4320450:Event:37153
DTSTAMP:20260425T125813Z
SUMMARY:World Cup Soccer Viewing Party
DESCRIPTION:Watch the World Cup on the 16 foot HD TV at Philly Phaithf
 ul (737 N. 4th Street) with free beer and apparel discounts. For info,
  visit www.phillyphaithful.com or call (888) 4PHAITH. Free and open to
  public (21+).\n\nFor more information visit http://phillytodo.com/eve
 nts/world-cup-soccer-viewing-party
DTSTART:20140614T220000Z
DTEND:20140615T003000Z
CATEGORIES:social, sporting, event
LOCATION:Philly Phaithful
WEBSITE:http://www.phillyphaithful.com
URL:http://www.phillyphaithful.com
CONTACT:
ORGANIZER:
ATTACH;FMTTYPE="image/jpeg":http://storage.ning.com/topology/rest/1.0/
 file/get/3054975379?profile=original
ATTENDEE;ROLE=REQ-PARTICIPANT;PARTSTAT=ACCEPTED;RSVP=TRUE;CN="Aversa P
 R & Events":http://phillytodo.com/profile/KoryAversa277
END:VEVENT
END:VCALENDAR
