BEGIN:VCALENDAR
PRODID:NingEventWidget-v1
VERSION:2.0
METHOD:PUBLISH
BEGIN:VEVENT
UID:4320450:Event:37077
DTSTAMP:20260425T142729Z
SUMMARY:World Cup Soccer Viewing Party
DESCRIPTION:Cheer on USA as they take on Germany. Watch the World Cup 
 on the 16 foot HD TV at Philly Phaithful (737 N. 4th Street) with free
  beer and apparel discounts. For info, visit www.phillyphaithful.com o
 r call (888) 4PHAITH. Free and open to public (21+).\n\nFor more infor
 mation visit http://phillytodo.com/events/world-cup-soccer-viewing-par
 ty-3
DTSTART:20140626T160000Z
DTEND:20140626T183000Z
CATEGORIES:world, cup, soccer, viewing, party
LOCATION:Philly Phaithful
WEBSITE:http://www.phillyphaithful.com
URL:http://www.phillyphaithful.com
CONTACT:1-888-4PHAITH
ORGANIZER:
ATTACH;FMTTYPE="image/jpeg":http://storage.ning.com/topology/rest/1.0/
 file/get/3054975379?profile=original
ATTENDEE;ROLE=REQ-PARTICIPANT;PARTSTAT=ACCEPTED;RSVP=TRUE;CN="Aversa P
 R & Events":http://phillytodo.com/profile/KoryAversa277
END:VEVENT
END:VCALENDAR
