BEGIN:VCALENDAR
PRODID:NingEventWidget-v1
VERSION:2.0
METHOD:PUBLISH
BEGIN:VEVENT
UID:4320450:Event:37219
DTSTAMP:20260425T125828Z
SUMMARY:World Cup Soccer Viewing Party
DESCRIPTION:Cheer on USA as they take on Portugal. Watch the World Cup
  on the 16 foot HD TV at Philly Phaithful (737 N. 4th Street) with fre
 e beer and apparel discounts. For info, visit www.phillyphaithful.com 
 or call (888) 4PHAITH. Free and open to public (21+).\n\nFor more info
 rmation visit http://phillytodo.com/events/world-cup-soccer-viewing-pa
 rty-2
DTSTART:20140622T220000Z
DTEND:20140623T003000Z
CATEGORIES:world, cup, soccer, viewing, party
LOCATION:Philly Phaithful
WEBSITE:http://www.phillyphaithful.com
URL:http://www.phillyphaithful.com
CONTACT:1-888-4PHAITH
ORGANIZER:
ATTACH;FMTTYPE="image/jpeg":http://storage.ning.com/topology/rest/1.0/
 file/get/3054975379?profile=original
ATTENDEE;ROLE=REQ-PARTICIPANT;PARTSTAT=ACCEPTED;RSVP=TRUE;CN="Aversa P
 R & Events":http://phillytodo.com/profile/KoryAversa277
END:VEVENT
END:VCALENDAR
