BEGIN:VCALENDAR
PRODID:NingEventWidget-v1
VERSION:2.0
METHOD:PUBLISH
BEGIN:VEVENT
UID:4320450:Event:37167
DTSTAMP:20260425T125023Z
SUMMARY:World Cup Game Watch Parties
DESCRIPTION:World Cup watch parties at XFINITY Live! Philadelphia! Eve
 ry game will be shown on our 32 foot HD LED television screen with gre
 at food and drink specials when you wear your team's color. During eac
 h USA game Bullies Pub will be giving away one authentic USA jersey. V
 isit xfinitylive.com for more details.\n\nFor more information visit h
 ttp://phillytodo.com/events/world-cup-game-watch-parties
DTSTART:20140619T150000Z
DTEND:20140714T034500Z
CATEGORIES:watch, party
LOCATION:XFINITY Live! Philadelphia
WEBSITE:http://xfinitylive.com
URL:http://xfinitylive.com
CONTACT:267-443-6415
ORGANIZER;CN="XFINITY Live! Philadelphia":http://phillytodo.com/profil
 e/XFINITYLivePhiladelphia
ATTACH;FMTTYPE="image/jpeg":http://storage.ning.com/topology/rest/1.0/
 file/get/3054975693?profile=original
ATTENDEE;ROLE=REQ-PARTICIPANT;PARTSTAT=ACCEPTED;RSVP=TRUE;CN="XFINITY 
 Live! Philadelphia":http://phillytodo.com/profile/XFINITYLivePhiladelp
 hia
END:VEVENT
END:VCALENDAR
