BEGIN:VCALENDAR
PRODID:NingEventWidget-v1
VERSION:2.0
METHOD:PUBLISH
BEGIN:VEVENT
UID:4320450:Event:36866
DTSTAMP:20260425T125847Z
SUMMARY:World Cup Collection Launch & FIFA Tournament
DESCRIPTION:Philly Phaithful (737 N. 4th St) hosts a special launch pa
 rty for the “World Cup Collection” t-shirts by Live, Breathe, Futb
 ol. On Friday, May 23, 2014, from 7 to 11 pm, celebrate the greatest s
 porting event on the planet with new soccer and World-Cup inspired des
 igns. Compete in a FIFA Tournament on the 16-foot projection wall, plu
 s sip free beer and enjoy free snacks. Be the first to see the new des
 igns before they launch to the public – plus save on both Live, Brea
 the, Futbol AND Philly Phaithful merchandise. Admission is free (21+),
  but RSVP is required at www.phillyphaithful.com, info@phillyphaithful
 .com or (888) 4PHAITH.\n\nFor more information visit http://phillytodo
 .com/events/world-cup-collection-launch-fifa-tournament
DTSTART:20140523T230000Z
DTEND:20140524T030000Z
CATEGORIES:collection, launch
LOCATION:Philly Phaithful
WEBSITE:http://www.phillyphaithful.com
URL:http://www.phillyphaithful.com
CONTACT:888-474-2484
ORGANIZER:Philly Phaithful
ATTACH;FMTTYPE="image/jpeg":http://storage.ning.com/topology/rest/1.0/
 file/get/3054979591?profile=original
ATTENDEE;ROLE=REQ-PARTICIPANT;PARTSTAT=ACCEPTED;RSVP=TRUE;CN="Aversa P
 R & Events":http://phillytodo.com/profile/KoryAversa277
END:VEVENT
END:VCALENDAR
