BEGIN:VCALENDAR
PRODID:NingEventWidget-v1
VERSION:2.0
METHOD:PUBLISH
BEGIN:VEVENT
UID:4320450:Event:170902
DTSTAMP:20260425T124037Z
SUMMARY:Workshop with Artist Susan Hagen—Figurative Wood Sculpture: 
 Heroes and Hedgehogs
DESCRIPTION:Glen Foerd on the Delaware and the Center for Art in Wood 
 present Figurative Wood Sculpture: Heroes and Hedgehogs led by interna
 tionally renowned artist Susan Hagen. This is a two-day hands-on cours
 e that will instruct participants in the creation of small-scale wood 
 sculptures of animals, humans, and imaginary creatures. Basic wood scu
 lpture processes will be taught, beginning with sketches and maquettes
  and including basic joinery, carving, and whittling. Knowledge of dra
 wing and basic woodworking is useful but not required. Susan Hagen is
  a Philadelphia-based artist, writer, and educator who discovered the 
 process of woodcarving would allow her to translate her own experience
 s into a tactile, pocket-sized, parallel universe.\n\nFor more informa
 tion visit http://phillytodo.com/events/workshop-with-artist-susan-hag
 en-figurative-wood-sculpture-heroes
DTSTART:20220520T140000Z
DTEND:20220521T190000Z
CATEGORIES:arts, "&amp", crafts, course
LOCATION:Glen Foerd on the Delaware; 5001 Grant Ave, Philadelphia, PA 
 19114
WEBSITE:https://bit.ly/3MuZTIh
URL:https://bit.ly/3MuZTIh
CONTACT:215-632-5330
ORGANIZER;CN="En Route Marketing":http://phillytodo.com/profile/EnRout
 eMarketing
ATTACH;FMTTYPE="image/jpeg":https://storage.ning.com/topology/rest/1.0
 /file/get/10441225476?profile=original
ATTENDEE;ROLE=REQ-PARTICIPANT;PARTSTAT=ACCEPTED;RSVP=TRUE;CN="En Route
  Marketing":http://phillytodo.com/profile/EnRouteMarketing
END:VEVENT
END:VCALENDAR
