BEGIN:VCALENDAR
PRODID:NingEventWidget-v1
VERSION:2.0
METHOD:PUBLISH
BEGIN:VEVENT
UID:4320450:Event:43203
DTSTAMP:20260425T144241Z
SUMMARY:Words Adorned: The Concert
DESCRIPTION:Al-Bustan invites you to the culminating concert of Words 
 Adorned, co-presented with Bryn Mawr College Performing Arts Series. T
 he concert will feature Dalal Abu Amneh with The Crossing and Al-Busta
 n Takht Ensemble. The performance will premiere newly-commissioned wor
 ks that take their inspiration from Andalusian poetry: \"Embroidered V
 erses\" by composer Kareem Roustom and \"Of Nights and Solace\" by com
 poser Kinan Abou-afach.\n\nFor more information visit http://phillytod
 o.com/events/words-adorned-the-concert
DTSTART:20151206T010000Z
DTEND:20151206T030000Z
CATEGORIES:concert
LOCATION:Bryn Mawr College, Goodhart Hall
WEBSITE:http://albustanseeds.org/digital/wordsadorned/events/the-conce
 rt/
URL:http://albustanseeds.org/digital/wordsadorned/events/the-concert/
CONTACT:
ORGANIZER;CN="Al-Bustan Seeds of Culture":http://phillytodo.com/profil
 e/AlBustanSeedsofCulture
ATTACH;FMTTYPE="image/jpeg":http://storage.ning.com/topology/rest/1.0/
 file/get/3054993616?profile=original
ATTENDEE;ROLE=REQ-PARTICIPANT;PARTSTAT=ACCEPTED;RSVP=TRUE;CN="Al-Busta
 n Seeds of Culture":http://phillytodo.com/profile/AlBustanSeedsofCultu
 re
END:VEVENT
END:VCALENDAR
