BEGIN:VCALENDAR
PRODID:NingEventWidget-v1
VERSION:2.0
METHOD:PUBLISH
BEGIN:VEVENT
UID:4320450:Event:43065
DTSTAMP:20260425T144242Z
SUMMARY:Words Adorned: Music in Practice
DESCRIPTION:Music in Practice is part of Al-Bustan Seeds of Culture's 
 ‪Words Adorned‬ fall series. Al-Bustan Takht Ensemble and The Cros
 sing will have an open rehearsal for audience members to get a behind 
 the scenes look at the creative process integrating Arab music into th
 e Western musical canon. This event is in preparation for Al-Bustan's 
 culminating concert on December 5 at Bryn Mawr College.\n\nFor more in
 formation visit http://phillytodo.com/events/words-adorned-music-in-pr
 actice
DTSTART:20151124T233000Z
DTEND:20151125T010000Z
CATEGORIES:concert
LOCATION:Trinity Center for Urban Life
WEBSITE:http://www.trinitycentercity.org/
URL:http://www.trinitycentercity.org/
CONTACT:267-809-3668
ORGANIZER;CN="Al-Bustan Seeds of Culture":http://phillytodo.com/profil
 e/AlBustanSeedsofCulture
ATTACH;FMTTYPE="image/jpeg":http://storage.ning.com/topology/rest/1.0/
 file/get/3054995017?profile=original
ATTENDEE;ROLE=REQ-PARTICIPANT;PARTSTAT=ACCEPTED;RSVP=TRUE;CN="Al-Busta
 n Seeds of Culture":http://phillytodo.com/profile/AlBustanSeedsofCultu
 re
END:VEVENT
END:VCALENDAR
