BEGIN:VCALENDAR
PRODID:NingEventWidget-v1
VERSION:2.0
METHOD:PUBLISH
BEGIN:VEVENT
UID:4320450:Event:42965
DTSTAMP:20260425T161825Z
SUMMARY:Words Adorned: Arabic Vocal Traditon
DESCRIPTION:Dalal Abu Amneh, renowned Palestinian singer and soloist f
 or Words Adorned: The Concert, will demonstrate vocal muwashshah t
 raditions. Andalusian poetry will be performed with members of Al-Bus
 tan Tahkt Ensemble and the Penn Arabic Choir.\n\nFor more information 
 visit http://phillytodo.com/events/words-adorned-arabic-vocal-traditon
DTSTART:20151204T000000Z
DTEND:20151204T013000Z
CATEGORIES:music, concert
LOCATION:University of Pennsylvania
WEBSITE:http://albustanseeds.org/digital/wordsadorned/events/demo-arab
 ic-vocal-tradition/
URL:http://albustanseeds.org/digital/wordsadorned/events/demo-arabic-v
 ocal-tradition/
CONTACT:917-864-0249
ORGANIZER;CN="Al-Bustan Seeds of Culture":http://phillytodo.com/profil
 e/AlBustanSeedsofCulture
ATTACH;FMTTYPE="image/jpeg":http://storage.ning.com/topology/rest/1.0/
 file/get/3054990719?profile=original
ATTENDEE;ROLE=REQ-PARTICIPANT;PARTSTAT=ACCEPTED;RSVP=TRUE;CN="Al-Busta
 n Seeds of Culture":http://phillytodo.com/profile/AlBustanSeedsofCultu
 re
END:VEVENT
END:VCALENDAR
