BEGIN:VCALENDAR
PRODID:NingEventWidget-v1
VERSION:2.0
METHOD:PUBLISH
BEGIN:VEVENT
UID:4320450:Event:46112
DTSTAMP:20260425T144243Z
SUMMARY:Woodward Celebration Kickoff
DESCRIPTION:The Woodward Celebration 2016 is a multi-day event series 
 and capital campaign designed to honor the contributions of the Housto
 n-Woodward family in Chestnut Hill and beyond. The Woodward Celebratio
 n Kickoff will include: \n\nWelcome and Gallery Talk led by William R
 . Valerio, PhD, Director and CEO, Woodmere Art Museum \n\n\nPresentat
 ion: Patrons of the Arts: The Woodwards and Violet Oakley led by David
  R. Contosta, professor of history, Chestnut Hill College and Woodward
  family biographer\n\n\nGallery Exhibition: Violet Oakley and the Wood
 ward Family\n\n\nFor more information visit http://phillytodo.com/even
 ts/woodward-celebration-kickoff
DTSTART:20160608T213000Z
DTEND:20160608T233000Z
CATEGORIES:celebration
LOCATION:Woodmere Art Museum
WEBSITE:http://www.woodwardcommunitycentre.org
URL:http://www.woodwardcommunitycentre.org
CONTACT:215-621-7064
ORGANIZER:Woodward Celebration Committee
ATTACH;FMTTYPE="image/jpeg":
ATTENDEE;ROLE=REQ-PARTICIPANT;PARTSTAT=ACCEPTED;RSVP=TRUE;CN="Bryan Ch
 an":http://phillytodo.com/profile/BryanChan
END:VEVENT
END:VCALENDAR
