BEGIN:VCALENDAR
PRODID:NingEventWidget-v1
VERSION:2.0
METHOD:PUBLISH
BEGIN:VEVENT
UID:4320450:Event:46210
DTSTAMP:20260425T114223Z
SUMMARY:Woodward Celebration Gala Dinner
DESCRIPTION:The Woodward Celebration 2016 is a multi-day event series 
 and capital campaign designed to honor the contributions of the Housto
 n-Woodward family in Chestnut Hill and beyond. The Woodward Celebratio
 n Gala Dinner will include:\n\nMaster of Ceremonies, the Right Reveren
 d Frank T. Griswold, Former Presiding Bishop of the Episcopal Church a
 nd Former Rector of the Church of St. Martin-in-the-fields\n\n\nPresen
 tation: “The Tale of Two Cities”: Charleston, Philadelphia, and th
 e Woodward Family led by David R. Contosta, professor of history, Ches
 tnut Hill College and Woodward family biographer\n\n\nPresentation: A 
 Mayor’s Fond Reminiscences of Betty and Charles Woodward and How The
 y Enhanced our City given by The Honorable Joe Riley, former ten-term 
 mayor of Charleston, South Carolina\n\n\nFor more information visit ht
 tp://phillytodo.com/events/woodward-celebration-gala-dinner
DTSTART:20160609T220000Z
DTEND:20160610T010000Z
CATEGORIES:gala
LOCATION:Chestnut Hill College
WEBSITE:http://www.woodwardcommunitycentre.org
URL:http://www.woodwardcommunitycentre.org
CONTACT:215.621.7064
ORGANIZER:Woodward Celebration Committee
ATTACH;FMTTYPE="image/jpeg":http://storage.ning.com/topology/rest/1.0/
 file/get/3054995864?profile=original
ATTENDEE;ROLE=REQ-PARTICIPANT;PARTSTAT=ACCEPTED;RSVP=TRUE;CN="Bryan Ch
 an":http://phillytodo.com/profile/BryanChan
END:VEVENT
END:VCALENDAR
