BEGIN:VCALENDAR
PRODID:NingEventWidget-v1
VERSION:2.0
METHOD:PUBLISH
BEGIN:VEVENT
UID:4320450:Event:46719
DTSTAMP:20260425T113048Z
SUMMARY:Woodford Mansion, Staying Cool in the Colonies
DESCRIPTION:Visit Woodford Mansion and learn about the 18th century s
 ummer homes that dotted the edges of Philadelphia. This National Hist
 oric Landmark served as escape from a crowded Philadelphia during the 
 summer months. Through a magnificent collection of historical items, p
 ortraits, and antiques, you’ll find out how people lived during the 
 warmest months of the year. Don’t miss your opportunity to tour Wood
 ford Mansion. When it comes to history you couldn’t get much hotter
 , but don’t worry, Woodford is fully air-conditioned.\n\nFor more in
 formation visit http://phillytodo.com/events/woodford-mansion-staying-
 cool-in-the-colonies
DTSTART:20160809T140000Z
DTEND:20160814T200000Z
CATEGORIES:historical, tour
LOCATION:Woodford Mansion
WEBSITE:http://www.woodfordmansion.org/contact.php
URL:http://www.woodfordmansion.org/contact.php
CONTACT:(215) 229-6115
ORGANIZER;CN="Bryan Chan":http://phillytodo.com/profile/BryanChan
ATTACH;FMTTYPE="image/jpeg":http://storage.ning.com/topology/rest/1.0/
 file/get/3054995395?profile=original
ATTENDEE;ROLE=REQ-PARTICIPANT;PARTSTAT=ACCEPTED;RSVP=TRUE;CN="Bryan Ch
 an":http://phillytodo.com/profile/BryanChan
END:VEVENT
END:VCALENDAR
