BEGIN:VCALENDAR
PRODID:NingEventWidget-v1
VERSION:2.0
METHOD:PUBLISH
BEGIN:VEVENT
UID:4320450:Event:51727
DTSTAMP:20260425T125616Z
SUMMARY:Woodford Mansion, Staying Cool in the Colonies
DESCRIPTION:Visit Woodford Mansion and learn about the 18th century su
 mmer homes that dotted the edges of Philadelphia. This National Histor
 ic Landmark served as escape from a crowded Philadelphia during the su
 mmer months. Through a magnificent collection of historical items, por
 traits, and antiques, you’ll find out how people lived during the wa
 rmest months of the year on these special guided tours from August 23r
 d through August 27th. When it comes to history you couldn’t get muc
 h hotter, but don’t worry, Woodford is fully air-conditioned.\n\nFor
  more information visit http://phillytodo.com/events/woodford-mansion-
 staying-cool-in-the-colonies-1
DTSTART:20170823T140000Z
DTEND:20170827T080000Z
CATEGORIES:museum, guided, tours, family, outing
LOCATION:Woodford Mansion
WEBSITE:http://woodfordmansion.org/contact.php
URL:http://woodfordmansion.org/contact.php
CONTACT:2152296115
ORGANIZER;CN="Bryan Chan":http://phillytodo.com/profile/BryanChan
ATTACH;FMTTYPE="image/jpeg":http://storage.ning.com/topology/rest/1.0/
 file/get/3055004184?profile=original
ATTENDEE;ROLE=REQ-PARTICIPANT;PARTSTAT=ACCEPTED;RSVP=TRUE;CN="Bryan Ch
 an":http://phillytodo.com/profile/BryanChan
END:VEVENT
END:VCALENDAR
