BEGIN:VCALENDAR
PRODID:NingEventWidget-v1
VERSION:2.0
METHOD:PUBLISH
BEGIN:VEVENT
UID:4320450:Event:43080
DTSTAMP:20260425T130747Z
SUMMARY:Woodford Mansion Holiday Tours
DESCRIPTION:All are welcome to drop in and enjoy Woodford Mansion’s 
 festive holiday decorations inspired by the whimsical Christmas carol 
 “The Twelve Days of Christmas.” Hear the history of the mansion an
 d the families who called them home from friendly guides. Reservations
  not required. Free parking available.  \nTickets: $5; children 12 an
 d under free\n\nFor more information visit http://phillytodo.com/event
 s/woodford-mansion-holiday-tours
DTSTART:20151203T150000Z
DTEND:20151220T210000Z
CATEGORIES:holiday, tour
LOCATION:Fairmount Park
WEBSITE:
URL:
CONTACT:http://www.woodfordmansion.org/events.php
ORGANIZER;CN="Bryan Chan":http://phillytodo.com/profile/BryanChan
ATTACH;FMTTYPE="image/jpeg":
ATTENDEE;ROLE=REQ-PARTICIPANT;PARTSTAT=ACCEPTED;RSVP=TRUE;CN="Bryan Ch
 an":http://phillytodo.com/profile/BryanChan
END:VEVENT
END:VCALENDAR
