BEGIN:VCALENDAR
PRODID:NingEventWidget-v1
VERSION:2.0
METHOD:PUBLISH
BEGIN:VEVENT
UID:4320450:Event:38163
DTSTAMP:20260425T141439Z
SUMMARY:Woodford Mansion August Tours
DESCRIPTION:Woodford Mansion is not only a National Historic Landmark,
  but also home to the significant Naomi Wood Antiques Collection. A we
 alth of furniture, paintings, and household items fill each room of th
 e Colonial mansion and Woodford’s trained guides tell the stories of
  the people who called Woodford home.  Visit Woodford Saturday, Augus
 t 16th, through Sunday, August 24th (Closed Monday, August 18th) for a
  special “My Favorite Things Tour” and hear about some of our guid
 es’ favorite items from the collection and stories from the past.\n
 \nAdmission at the Woodford Mansion is $5 for adults, $3 for Senior C
 itizens and $2 for children (age 6-12). Admission at the Historic Stra
 wberry Mansion is $5. Visit now at 2300 N. 33rd St, East Fairmount Par
 k, PA 19102. Free parking available for all visitors. For more informa
 tion, contact the Woodford Mansion directly at 215-229-6115, visit www
 .woodfordmansion.org or become a fan at https://www.facebook.com/pages
 /Woodford-Mansion/299675059413‎\n\nFor more information visit http:/
 /phillytodo.com/events/woodford-mansion-august-tours
DTSTART:20140817T020000Z
DTEND:20140824T200000Z
CATEGORIES:special, august, tours
LOCATION:Woodford Mansion
WEBSITE:http://www.woodfordmansion.org
URL:http://www.woodfordmansion.org
CONTACT:215-229-6115
ORGANIZER;CN="Bryan Chan":http://phillytodo.com/profile/BryanChan
ATTACH;FMTTYPE="image/jpeg":http://storage.ning.com/topology/rest/1.0/
 file/get/3054979880?profile=original
ATTENDEE;ROLE=REQ-PARTICIPANT;PARTSTAT=ACCEPTED;RSVP=TRUE;CN="Bryan Ch
 an":http://phillytodo.com/profile/BryanChan
END:VEVENT
END:VCALENDAR
