BEGIN:VCALENDAR
PRODID:NingEventWidget-v1
VERSION:2.0
METHOD:PUBLISH
BEGIN:VEVENT
UID:4320450:Event:682
DTSTAMP:20260425T142623Z
SUMMARY:Womens Self Defense - Fight Like A Girl (FLAG) through the Rap
 e Escape Method
DESCRIPTION:Women's Only self defense seminar Fight Like A Girl throug
 h the Rape Escape Method - Level I. This will be a 2.5 hour seminar co
 vering the basics.The techniques are easy to do and remember. Age rang
 e 12-60\n\nYou will learn the basic solutions to the most common sexua
 l assault scenarios. Towards the end of the Seminar an \"Attacker\" wi
 ll come assist us so you can all practice live. This is one of the thi
 ngs that makes this system of self defense unique.\n\nWear something c
 omfortable to move around. We will be working on the mats so no shoes.
  Socks are allowed.\n\nSunday, January 24th 2010\n10:30am - 1:00pm\nCo
 st: $30.00 (register by January 15th and receive a $5.00 discount)\n\n
 Brazilian Jiu-Jitsu United\n428 Old York Road\nJenkintown, PA 19046\n\
 nlocated next to Fill A Bagel on routh 611 in Jenkintown. There is fre
 e parking in the lot and street parking available.\n\nThere is a limit
 ed amount of space so please sign up. Feel free to pass this along to 
 your mothers, sisters, daughters, friends and whoever else you think s
 hould take this course. Also, if you reserve a spot and cannot make it
  for some reason please let us know so we can offer that spot to someo
 ne else.\n\nPlease contact Sharon for more information or to register 
 at sbonewicz@gmail.com\n\nDo not RSVP through the site. I must receive
  an email to reserve your spot.\n\nThere will also be another Level 1 
 on February 6 (Saturday) 2:30pm-5:00pm. You can register for either on
 e to sbonewicz@gmail.com\n\nThank you!\n\nFor more information visit h
 ttp://phillytodo.com/events/womens-self-defense-fight
DTSTART:20100124T153000Z
DTEND:20100124T180000Z
CATEGORIES:womens, self, defense
LOCATION:Brazilian Jiu-Jitsu United Academy
WEBSITE:http://maps.google.com/maps?f=q&source=s_q&hl=en&geocode=&q=42
 8+Old+York+Road,+Jenkintown&sll=40.09699,-75.125845&sspn=0.009389,0.02
 7595&ie=UTF8&hq=&hnear=428+Old+York+Rd,+Jenkintown,+Montgomery,+Pennsy
 lvania+19046&mrt=rblall&ll=40.099051,-75.125756&spn=0.009389,0.027595&
 z=15&iwloc=A&iwstate1=actions
URL:http://maps.google.com/maps?f=q&source=s_q&hl=en&geocode=&q=428+Ol
 d+York+Road,+Jenkintown&sll=40.09699,-75.125845&sspn=0.009389,0.027595
 &ie=UTF8&hq=&hnear=428+Old+York+Rd,+Jenkintown,+Montgomery,+Pennsylvan
 ia+19046&mrt=rblall&ll=40.099051,-75.125756&spn=0.009389,0.027595&z=15
 &iwloc=A&iwstate1=actions
CONTACT:(215) 886-1079
ORGANIZER;CN="Sharon Bonewicz":http://phillytodo.com/profile/SharonBon
 ewicz
ATTACH;FMTTYPE="image/jpeg":http://storage.ning.com/topology/rest/1.0/
 file/get/3054942957?profile=original
ATTENDEE;ROLE=REQ-PARTICIPANT;PARTSTAT=ACCEPTED;RSVP=TRUE;CN="Sharon B
 onewicz":http://phillytodo.com/profile/SharonBonewicz
END:VEVENT
END:VCALENDAR
