BEGIN:VCALENDAR
PRODID:NingEventWidget-v1
VERSION:2.0
METHOD:PUBLISH
BEGIN:VEVENT
UID:4320450:Event:32212
DTSTAMP:20260425T174220Z
SUMMARY:Women's only BJJ seminar with Black Belt Val Worthington (5/18
  @ 4pm)
DESCRIPTION:About Val Val Worthington has been grappling for many year
 s and currently trains at Fifty/50 BJJ in Arlington, VA. She is one of
  the principals of Groundswell Grappling Concepts, the parent company 
 of Women's Grappling Camp and other upcoming initiatives, as well as a
  regular contributor to the health and fitness website Breaking Muscle
 . Her background in writing and learning theory comes in handy in all 
 these endeavors, as does her insistence on seeing the humor in most ev
 erything, especially herself.\nPrice:$50\nTime: Saturday May 18th 4pm-
 6:30pm\nAddress Balance Studios (Center City) 108-114 Bonsall st Phila
  pa 19103\nPhone215 636 9661\n Seminar Breakdown: 60-90 min of techniq
 ue (sequence from inside open guard to the back) 30 min of training 30
 -45 min of discussion about jiu jitsu lifestyle issues\n \n\nFor more
  information visit http://phillytodo.com/events/women-s-only-bjj-semin
 ar-with-black-belt-val-worthington-5-18-4pm
DTSTART:20130518T200000Z
DTEND:20130518T223000Z
CATEGORIES:"women's", only, bjj, seminar, with, black, belt, val, wort
 hington, "(5/18", "@", "4pm)"
LOCATION:http://balancestudios.net/center-city-philadelphia-headquarte
 rs/
WEBSITE:http://balancestudios.net/womens-bjj-seminar-black-belt-val-wo
 rthington-518-4pm/
URL:http://balancestudios.net/womens-bjj-seminar-black-belt-val-worthi
 ngton-518-4pm/
CONTACT:215 636 9661
ORGANIZER;CN="Balance Studios @BalanceMMA":http://phillytodo.com/profi
 le/BalanceStudios550
ATTACH;FMTTYPE="image/jpeg":http://storage.ning.com/topology/rest/1.0/
 file/get/3054966127?profile=original
ATTENDEE;ROLE=REQ-PARTICIPANT;PARTSTAT=ACCEPTED;RSVP=TRUE;CN="Balance 
 Studios @BalanceMMA":http://phillytodo.com/profile/BalanceStudios550
END:VEVENT
END:VCALENDAR
