BEGIN:VCALENDAR
PRODID:NingEventWidget-v1
VERSION:2.0
METHOD:PUBLISH
BEGIN:VEVENT
UID:4320450:Event:54742
DTSTAMP:20260425T131342Z
SUMMARY:Women's History Month Tours: \"Women of Woodford\"
DESCRIPTION: Built more than 250 years ago as a summer retreat along 
 the banks of the Schuylkill River, Woodford Mansion has been home to m
 any prominent Philadelphia families. The women associated with Woodfor
 d played many roles and their stories are told through an impressive c
 ollection of portraits and antiques. Tour Woodford from March 21st thr
 ough March 25th during Women's History Month for tours focused on the 
 lives and legends of the women of Woodford, such as Hannah Coleman, An
 n Hickman Barclay, Rebecca Franks, and Bilah Abigail Franks, as well a
 s Naomi Wood, whose antiques collection fills the museum.\n\nFor more 
 information visit http://phillytodo.com/events/women-s-history-month-t
 ours-women-of-woodford
DTSTART:20180321T140000Z
DTEND:20180325T200000Z
CATEGORIES:museum, tours
LOCATION:Woodford Mansion
WEBSITE:http://woodfordmansion.org
URL:http://woodfordmansion.org
CONTACT:
ORGANIZER;CN="Bryan Chan":http://phillytodo.com/profile/BryanChan
ATTACH;FMTTYPE="image/jpeg":http://storage.ning.com/topology/rest/1.0/
 file/get/3055011017?profile=original
ATTENDEE;ROLE=REQ-PARTICIPANT;PARTSTAT=ACCEPTED;RSVP=TRUE;CN="Bryan Ch
 an":http://phillytodo.com/profile/BryanChan
END:VEVENT
END:VCALENDAR
