BEGIN:VCALENDAR
PRODID:NingEventWidget-v1
VERSION:2.0
METHOD:PUBLISH
BEGIN:VEVENT
UID:4320450:Event:46838
DTSTAMP:20260425T131458Z
SUMMARY:Women Making History Celebration and Awards Ceremony
DESCRIPTION:The Walnut Club celebrates this historic moment for our co
 untry with the first annual Women Making History Celebration and Award
 s Ceremony on Sunday, July 24, 2016 at Water Works (640 Water Works Dr
 ive). Connect with the cityâ€™s most accomplished women in all aspects
  of business, media, arts, and politics as they celebrate each otherâ€
 ™s achievements - and count down to the nomination of the first woman 
 running for office of the President. This non-partisan event is open t
 o the public. Tickets are $100-175 and include an open bar, a raw bar,
  endless food and live entertainment. Proceeds from the event benefit 
 Vision 2020: Equality in Sight Â Â which plans to celebrate the 100th 
 anniversary of the 19th amendment with the largest gathering of women 
 leaders in U.S. history in Philadelphia in 2020. For tickets and detai
 ls, visit www.WomenMakingHistory.us\n\nFor more information visit http
 ://phillytodo.com/events/women-making-history-celebration-and-awards-c
 eremony
DTSTART:20160724T150000Z
DTEND:20160724T190000Z
CATEGORIES:celebration, luncheon
LOCATION:Water Works
WEBSITE:http://womenmakinghistory.us/
URL:http://womenmakinghistory.us/
CONTACT:267.603.2294
ORGANIZER;CN="Aversa PR & Events":http://phillytodo.com/profile/KoryAv
 ersa277
ATTACH;FMTTYPE="image/jpeg":http://storage.ning.com/topology/rest/1.0/
 file/get/3054995909?profile=original
ATTENDEE;ROLE=REQ-PARTICIPANT;PARTSTAT=ACCEPTED;RSVP=TRUE;CN="Aversa P
 R & Events":http://phillytodo.com/profile/KoryAversa277
END:VEVENT
END:VCALENDAR
