BEGIN:VCALENDAR
PRODID:NingEventWidget-v1
VERSION:2.0
METHOD:PUBLISH
BEGIN:VEVENT
UID:4320450:Event:650
DTSTAMP:20260425T172054Z
SUMMARY:Women For Women
DESCRIPTION:Meet other local Working Women to network, educate each ot
 her and give back to the women in our community. And our monthly meeti
 ngs are free!\nPlease register using link above.\n\nFor more informati
 on visit http://phillytodo.com/events/women-for-women
DTSTART:20100118T233000Z
DTEND:20100119T010000Z
CATEGORIES:"women's", networking
LOCATION:Yardley, Bucks County, PA
WEBSITE:http://www.meetup.com/women4women/
URL:http://www.meetup.com/women4women/
CONTACT:215-860-8810x122
ORGANIZER;CN="Kelly Willey":http://phillytodo.com/profile/KellyWilley
ATTACH;FMTTYPE="image/jpeg":http://storage.ning.com/topology/rest/1.0/
 file/get/3054942787?profile=original
ATTENDEE;ROLE=REQ-PARTICIPANT;PARTSTAT=ACCEPTED;RSVP=TRUE;CN="Kelly Wi
 lley":http://phillytodo.com/profile/KellyWilley
END:VEVENT
END:VCALENDAR
